View In:
ArcGIS JavaScript
ArcGIS Online Map Viewer
ArcGIS Earth
Service Description: RASTER/MNT_Seine_opsia_2022_L93
Name: RASTER/MNT_Seine_opsia_2022_L93
Description:
Single Fused Map Cache: false
Extent:
XMin: 795667.0475058459
YMin: 6794237.466424645
XMax: 802739.5475058459
YMax: 6802299.966424645
Spatial Reference: 102110
(2154)
LatestVCSWkid(0)
Initial Extent:
XMin: 795667.0475058459
YMin: 6794237.466424645
XMax: 802739.5475058459
YMax: 6802299.966424645
Spatial Reference: 102110
(2154)
LatestVCSWkid(0)
Full Extent:
XMin: 795667.0475058459
YMin: 6794237.466424645
XMax: 802739.5475058459
YMax: 6802299.966424645
Spatial Reference: 102110
(2154)
LatestVCSWkid(0)
Pixel Size X: 0.5
Pixel Size Y: 0.5
Band Count: 1
Pixel Type: F32
RasterFunction Infos: {"rasterFunctionInfos": [{
"name": "None",
"description": "",
"help": ""
}]}
Mensuration Capabilities: Basic
Inspection Capabilities:
Has Histograms: true
Has Colormap: false
Has Multi Dimensions : false
Rendering Rule:
Min Scale: 261663.1295004485
Max Scale: 4088.486398444508
Resampling: false
Copyright Text:
Service Data Type: esriImageServiceDataTypeGeneric
Min Values: 117.79000091552734
Max Values: 151.72999572753906
Mean Values: 132.88099018881098
Standard Deviation Values: 6.185184123062964
Object ID Field:
Fields:
None
Default Mosaic Method: Center
Allowed Mosaic Methods:
SortField:
SortValue: null
Mosaic Operator: First
Default Compression Quality: 75
Default Resampling Method: Bilinear
Max Record Count: null
Max Image Height: 4100
Max Image Width: 15000
Max Download Image Count: null
Max Mosaic Image Count: null
Allow Raster Function: true
Allow Copy: false
Allow Analysis: false
Allow Compute TiePoints: false
Supports Statistics: false
Supports Advanced Queries: false
Use StandardizedQueries: true
Raster Type Infos:
Name: Raster Dataset
Description: Prend en charge tous les jeux de données raster ArcGIS
Help:
Has Raster Attribute Table: false
Edit Fields Info: null
Ownership Based AccessControl For Rasters: null
Child Resources:
Info
Histograms
Statistics
Key Properties
Legend
Raster Function Infos
Supported Operations:
Export Image
Identify
Measure
Compute Histograms
Compute Statistics Histograms
Get Samples
Compute Class Statistics
Query Boundary
Compute Pixel Location
Compute Angles
Validate
Project