View In:
ArcGIS JavaScript
ArcGIS Online Map Viewer
ArcGIS Earth
Service Description: RASTER/MNT_Panneciere_opsia_2022_L93
Name: RASTER/MNT_Panneciere_opsia_2022_L93
Description:
Single Fused Map Cache: false
Extent:
XMin: 765596.7409334097
YMin: 6667854.306940065
XMax: 771651.2409334097
YMax: 6674510.306940065
Spatial Reference: 102110
(2154)
LatestVCSWkid(0)
Initial Extent:
XMin: 765596.7409334097
YMin: 6667854.306940065
XMax: 771651.2409334097
YMax: 6674510.306940065
Spatial Reference: 102110
(2154)
LatestVCSWkid(0)
Full Extent:
XMin: 765596.7409334097
YMin: 6667854.306940065
XMax: 771651.2409334097
YMax: 6674510.306940065
Spatial Reference: 102110
(2154)
LatestVCSWkid(0)
Pixel Size X: 0.5
Pixel Size Y: 0.5
Band Count: 1
Pixel Type: F32
RasterFunction Infos: {"rasterFunctionInfos": [{
"name": "None",
"description": "",
"help": ""
}]}
Mensuration Capabilities: Basic
Inspection Capabilities:
Has Histograms: true
Has Colormap: false
Has Multi Dimensions : false
Rendering Rule:
Min Scale: 0
Max Scale: 0
Copyright Text:
Service Data Type: esriImageServiceDataTypeGeneric
Min Values: 275.260009765625
Max Values: 348.8999938964844
Mean Values: 311.43821463907346
Standard Deviation Values: 13.141576834732039
Object ID Field:
Fields:
None
Default Mosaic Method: Center
Allowed Mosaic Methods:
SortField:
SortValue: null
Mosaic Operator: First
Default Compression Quality: 75
Default Resampling Method: Bilinear
Max Record Count: null
Max Image Height: 4100
Max Image Width: 15000
Max Download Image Count: null
Max Mosaic Image Count: null
Allow Raster Function: true
Allow Copy: true
Allow Analysis: true
Allow Compute TiePoints: false
Supports Statistics: false
Supports Advanced Queries: false
Use StandardizedQueries: true
Raster Type Infos:
Name: Raster Dataset
Description: Prend en charge tous les jeux de données raster ArcGIS
Help:
Has Raster Attribute Table: false
Edit Fields Info: null
Ownership Based AccessControl For Rasters: null
Child Resources:
Info
Histograms
Statistics
Key Properties
Legend
Raster Function Infos
Supported Operations:
Export Image
Identify
Measure
Compute Histograms
Compute Statistics Histograms
Get Samples
Compute Class Statistics
Query Boundary
Compute Pixel Location
Compute Angles
Validate
Project