View In:
ArcGIS JavaScript
ArcGIS Online Map Viewer
ArcGIS Earth
Service Description: RASTER/MNT_Marne_opsia_2022_L93
Name: RASTER/MNT_Marne_opsia_2022_L93
Description:
Single Fused Map Cache: false
Extent:
XMin: 824961.8331184355
YMin: 6825877.727538768
XMax: 838065.8331184355
YMax: 6837002.227538768
Spatial Reference: 102110
(2154)
LatestVCSWkid(0)
Initial Extent:
XMin: 824961.8331184355
YMin: 6825877.727538768
XMax: 838065.8331184355
YMax: 6837002.227538768
Spatial Reference: 102110
(2154)
LatestVCSWkid(0)
Full Extent:
XMin: 824961.8331184355
YMin: 6825877.727538768
XMax: 838065.8331184355
YMax: 6837002.227538768
Spatial Reference: 102110
(2154)
LatestVCSWkid(0)
Pixel Size X: 0.5
Pixel Size Y: 0.5
Band Count: 1
Pixel Type: F32
RasterFunction Infos: {"rasterFunctionInfos": [{
"name": "None",
"description": "",
"help": ""
}]}
Mensuration Capabilities: Basic
Inspection Capabilities:
Has Histograms: true
Has Colormap: false
Has Multi Dimensions : false
Rendering Rule:
Min Scale: 0
Max Scale: 0
Copyright Text:
Service Data Type: esriImageServiceDataTypeGeneric
Min Values: 118.91999816894531
Max Values: 152.38999938964844
Mean Values: 133.9639230385534
Standard Deviation Values: 5.007060588247811
Object ID Field:
Fields:
None
Default Mosaic Method: Center
Allowed Mosaic Methods:
SortField:
SortValue: null
Mosaic Operator: First
Default Compression Quality: 75
Default Resampling Method: Bilinear
Max Record Count: null
Max Image Height: 4100
Max Image Width: 15000
Max Download Image Count: null
Max Mosaic Image Count: null
Allow Raster Function: true
Allow Copy: true
Allow Analysis: true
Allow Compute TiePoints: false
Supports Statistics: false
Supports Advanced Queries: false
Use StandardizedQueries: true
Raster Type Infos:
Name: Raster Dataset
Description: Prend en charge tous les jeux de données raster ArcGIS
Help:
Has Raster Attribute Table: false
Edit Fields Info: null
Ownership Based AccessControl For Rasters: null
Child Resources:
Info
Histograms
Statistics
Key Properties
Legend
Raster Function Infos
Supported Operations:
Export Image
Identify
Measure
Compute Histograms
Compute Statistics Histograms
Get Samples
Compute Class Statistics
Query Boundary
Compute Pixel Location
Compute Angles
Validate
Project