View In:
ArcGIS JavaScript
ArcGIS Online Map Viewer
ArcGIS Earth
Service Description: LaBassee/LaBassee_Topographie_MNT_2018
Name: LaBassee/LaBassee_Topographie_MNT_2018
Description:
Single Fused Map Cache: false
Extent:
XMin: 705867.0
YMin: 6809715.0
XMax: 715000.0
YMax: 6814146.0
Spatial Reference: 102110
(2154)
LatestVCSWkid(0)
Initial Extent:
XMin: 705867.0
YMin: 6809715.0
XMax: 715000.0
YMax: 6814146.0
Spatial Reference: 102110
(2154)
LatestVCSWkid(0)
Full Extent:
XMin: 705867.0
YMin: 6809715.0
XMax: 715000.0
YMax: 6814146.0
Spatial Reference: 102110
(2154)
LatestVCSWkid(0)
Pixel Size X: 1.0
Pixel Size Y: 1.0
Band Count: 1
Pixel Type: F32
RasterFunction Infos: {"rasterFunctionInfos": [{
"name": "None",
"description": "",
"help": ""
}]}
Mensuration Capabilities: Basic
Inspection Capabilities:
Has Histograms: true
Has Colormap: false
Has Multi Dimensions : false
Rendering Rule:
Min Scale: 0
Max Scale: 0
Copyright Text:
Service Data Type: esriImageServiceDataTypeGeneric
Min Values: 40.970001220703125
Max Values: 76.22000122070312
Mean Values: 52.95276298657725
Standard Deviation Values: 4.258862712860777
Object ID Field:
Fields:
None
Default Mosaic Method: Center
Allowed Mosaic Methods:
SortField:
SortValue: null
Mosaic Operator: First
Default Compression Quality: 75
Default Resampling Method: Bilinear
Max Record Count: null
Max Image Height: 4100
Max Image Width: 15000
Max Download Image Count: null
Max Mosaic Image Count: null
Allow Raster Function: true
Allow Copy: true
Allow Analysis: true
Allow Compute TiePoints: false
Supports Statistics: false
Supports Advanced Queries: false
Use StandardizedQueries: true
Raster Type Infos:
Name: Raster Dataset
Description: Prend en charge tous les jeux de données raster ArcGIS
Help:
Has Raster Attribute Table: false
Edit Fields Info: null
Ownership Based AccessControl For Rasters: null
Child Resources:
Info
Histograms
Statistics
Key Properties
Legend
Raster Function Infos
Supported Operations:
Export Image
Identify
Measure
Compute Histograms
Compute Statistics Histograms
Get Samples
Compute Class Statistics
Query Boundary
Compute Pixel Location
Compute Angles
Validate
Project