<?xml version="1.0" encoding="UTF-8" standalone="no"?>
<metadata xml:lang="fr">
<Esri>
<CreaDate>20221216</CreaDate>
<CreaTime>09490700</CreaTime>
<ArcGISFormat>1.0</ArcGISFormat>
<SyncOnce>FALSE</SyncOnce>
<DataProperties>
<itemProps>
<itemName Sync="TRUE">sglgdbproddb.sglinteguser.MNT_Panneciere_opsia_2022_L93</itemName>
<imsContentType Sync="TRUE">002</imsContentType>
<nativeExtBox>
<westBL Sync="TRUE">765596.740933</westBL>
<eastBL Sync="TRUE">771651.240933</eastBL>
<southBL Sync="TRUE">6667854.306940</southBL>
<northBL Sync="TRUE">6674510.306940</northBL>
<exTypeCode Sync="TRUE">1</exTypeCode>
</nativeExtBox>
<itemLocation>
<linkage Sync="TRUE">Server=10.10.92.32; Service=sde:postgresql:10.10.92.32; Database=sglgdbproddb; User=sglinteguser; Version=sde.DEFAULT</linkage>
<protocol Sync="TRUE">ArcSDE Connection</protocol>
</itemLocation>
</itemProps>
<lineage>
<Process Date="20221216" Time="094909" ToolSource="c:\program files\arcgis\pro\Resources\ArcToolbox\toolboxes\Data Management Tools.tbx\CopyRaster">CopyRaster "Q:\SIG\DONNEES\DONNEES EPTB SGL\BATHYMETRIE_OPSIA_2022\MNT_PANNECIERE.asc" "P:\Professionnel\03 - SIG\ArcGIS Pro\CopyQGISversGDB\GDB PROD - sglinteguser.sde\sglgdbproddb.sglinteguser.MNT_Panneciere_opsia_2022" # # -9999 NONE NONE "virgule flottante 32 bits" NONE NONE "Format Grille Esri" NONE CURRENT_SLICE NO_TRANSPOSE</Process>
<Process Date="20221216" Time="095409" ToolSource="c:\program files\arcgis\pro\Resources\ArcToolbox\toolboxes\Data Management Tools.tbx\DefineProjection">DefineProjection "P:\Professionnel\03 - SIG\ArcGIS Pro\CopyQGISversGDB\GDB PROD - sglinteguser.sde\sglgdbproddb.sglinteguser.MNT_Panneciere_opsia_2022" PROJCS["RGF_1993_Lambert_93",GEOGCS["GCS_RGF_1993",DATUM["D_RGF_1993",SPHEROID["GRS_1980",6378137.0,298.257222101]],PRIMEM["Greenwich",0.0],UNIT["Degree",0.0174532925199433]],PROJECTION["Lambert_Conformal_Conic"],PARAMETER["False_Easting",700000.0],PARAMETER["False_Northing",6600000.0],PARAMETER["Central_Meridian",3.0],PARAMETER["Standard_Parallel_1",44.0],PARAMETER["Standard_Parallel_2",49.0],PARAMETER["Latitude_Of_Origin",46.5],UNIT["Meter",1.0]]</Process>
<Process Date="20221216" Time="122640" ToolSource="c:\program files\arcgis\pro\Resources\ArcToolbox\toolboxes\Data Management Tools.tbx\DefineProjection">DefineProjection "P:\Professionnel\03 - SIG\ArcGIS Pro\CopyQGISversGDB\GDB PROD - sglinteguser.sde\sglgdbproddb.sglinteguser.MNT_Panneciere_opsia_2022" PROJCS["NTF_Paris_Lambert_Nord_France",GEOGCS["GCS_NTF_Paris",DATUM["D_NTF",SPHEROID["Clarke_1880_IGN",6378249.2,293.4660212936265]],PRIMEM["Paris",2.337229166666667],UNIT["Grad",0.01570796326794897]],PROJECTION["Lambert_Conformal_Conic"],PARAMETER["False_Easting",600000.0],PARAMETER["False_Northing",200000.0],PARAMETER["Central_Meridian",0.0],PARAMETER["Standard_Parallel_1",55.0],PARAMETER["Scale_Factor",0.999877341],PARAMETER["Latitude_Of_Origin",55.0],UNIT["Meter",1.0]]</Process>
<Process Date="20230109" Time="123846" ToolSource="c:\program files\arcgis\pro\Resources\ArcToolbox\toolboxes\Data Management Tools.tbx\DefineProjection">DefineProjection "P:\Professionnel\03 - SIG\ArcGIS Pro\CopyQGISversGDB\GDB PROD - sglinteguser.sde\sglgdbproddb.sglinteguser.MNT_Panneciere_opsia_2022" PROJCS["NTF_Paris_Lambert_Centre_France",GEOGCS["GCS_NTF_Paris",DATUM["D_NTF",SPHEROID["Clarke_1880_IGN",6378249.2,293.4660212936265]],PRIMEM["Paris",2.337229166666667],UNIT["Grad",0.01570796326794897]],PROJECTION["Lambert_Conformal_Conic"],PARAMETER["False_Easting",600000.0],PARAMETER["False_Northing",200000.0],PARAMETER["Central_Meridian",0.0],PARAMETER["Standard_Parallel_1",52.0],PARAMETER["Scale_Factor",0.99987742],PARAMETER["Latitude_Of_Origin",52.0],UNIT["Meter",1.0]]</Process>
<Process Date="20230109" Time="124131" ToolSource="c:\program files\arcgis\pro\Resources\ArcToolbox\toolboxes\Data Management Tools.tbx\ProjectRaster">ProjectRaster "P:\Professionnel\03 - SIG\ArcGIS Pro\CopyQGISversGDB\GDB PROD - sglinteguser.sde\sglgdbproddb.sglinteguser.MNT_Panneciere_opsia_2022" "P:\Professionnel\03 - SIG\ArcGIS Pro\CopyQGISversGDB\GDB PROD - sglinteguser.sde\sglgdbproddb.sglinteguser.MNT_Panneciere_opsia_2022_L93" PROJCS["RGF_1993_Lambert_93",GEOGCS["GCS_RGF_1993",DATUM["D_RGF_1993",SPHEROID["GRS_1980",6378137.0,298.257222101]],PRIMEM["Greenwich",0.0],UNIT["Degree",0.0174532925199433]],PROJECTION["Lambert_Conformal_Conic"],PARAMETER["False_Easting",700000.0],PARAMETER["False_Northing",6600000.0],PARAMETER["Central_Meridian",3.0],PARAMETER["Standard_Parallel_1",44.0],PARAMETER["Standard_Parallel_2",49.0],PARAMETER["Latitude_Of_Origin",46.5],UNIT["Meter",1.0]] "Voisin le plus proche" "0,5 0,5" 'NTF_Paris_To_NTF + RGF_1993_To_NTF_NTv2' # PROJCS["NTF_Paris_Lambert_Centre_France",GEOGCS["GCS_NTF_Paris",DATUM["D_NTF",SPHEROID["Clarke_1880_IGN",6378249.2,293.4660212936265]],PRIMEM["Paris",2.337229166666667],UNIT["Grad",0.01570796326794897]],PROJECTION["Lambert_Conformal_Conic"],PARAMETER["False_Easting",600000.0],PARAMETER["False_Northing",200000.0],PARAMETER["Central_Meridian",0.0],PARAMETER["Standard_Parallel_1",52.0],PARAMETER["Scale_Factor",0.99987742],PARAMETER["Latitude_Of_Origin",52.0],UNIT["Meter",1.0]] NO_VERTICAL</Process>
</lineage>
<coordRef>
<type Sync="TRUE">Projected</type>
<geogcsn Sync="TRUE">GCS_RGF_1993</geogcsn>
<csUnits Sync="TRUE">Linear Unit: Meter (1.000000)</csUnits>
<projcsn Sync="TRUE">RGF_1993_Lambert_93</projcsn>
<peXml Sync="TRUE">&lt;ProjectedCoordinateSystem xsi:type='typens:ProjectedCoordinateSystem' xmlns:xsi='http://www.w3.org/2001/XMLSchema-instance' xmlns:xs='http://www.w3.org/2001/XMLSchema' xmlns:typens='http://www.esri.com/schemas/ArcGIS/2.9.0'&gt;&lt;WKT&gt;PROJCS[&amp;quot;RGF_1993_Lambert_93&amp;quot;,GEOGCS[&amp;quot;GCS_RGF_1993&amp;quot;,DATUM[&amp;quot;D_RGF_1993&amp;quot;,SPHEROID[&amp;quot;GRS_1980&amp;quot;,6378137.0,298.257222101]],PRIMEM[&amp;quot;Greenwich&amp;quot;,0.0],UNIT[&amp;quot;Degree&amp;quot;,0.0174532925199433]],PROJECTION[&amp;quot;Lambert_Conformal_Conic&amp;quot;],PARAMETER[&amp;quot;False_Easting&amp;quot;,700000.0],PARAMETER[&amp;quot;False_Northing&amp;quot;,6600000.0],PARAMETER[&amp;quot;Central_Meridian&amp;quot;,3.0],PARAMETER[&amp;quot;Standard_Parallel_1&amp;quot;,44.0],PARAMETER[&amp;quot;Standard_Parallel_2&amp;quot;,49.0],PARAMETER[&amp;quot;Latitude_Of_Origin&amp;quot;,46.5],UNIT[&amp;quot;Meter&amp;quot;,1.0],AUTHORITY[&amp;quot;EPSG&amp;quot;,2154]]&lt;/WKT&gt;&lt;XOrigin&gt;-35597500&lt;/XOrigin&gt;&lt;YOrigin&gt;-23641900&lt;/YOrigin&gt;&lt;XYScale&gt;124074650.52332792&lt;/XYScale&gt;&lt;ZOrigin&gt;-100000&lt;/ZOrigin&gt;&lt;ZScale&gt;10000&lt;/ZScale&gt;&lt;MOrigin&gt;-100000&lt;/MOrigin&gt;&lt;MScale&gt;10000&lt;/MScale&gt;&lt;XYTolerance&gt;0.001&lt;/XYTolerance&gt;&lt;ZTolerance&gt;0.00020000000000000001&lt;/ZTolerance&gt;&lt;MTolerance&gt;0.00020000000000000001&lt;/MTolerance&gt;&lt;HighPrecision&gt;true&lt;/HighPrecision&gt;&lt;WKID&gt;102110&lt;/WKID&gt;&lt;LatestWKID&gt;2154&lt;/LatestWKID&gt;&lt;/ProjectedCoordinateSystem&gt;</peXml>
</coordRef>
</DataProperties>
<SyncDate>20230109</SyncDate>
<SyncTime>12413100</SyncTime>
<ModDate>20230109</ModDate>
<ModTime>12413100</ModTime>
</Esri>
<dataIdInfo>
<envirDesc Sync="TRUE">Microsoft Windows Server 2012 Version 6.2 (Build 9200) ; Esri ArcGIS 12.9.4.32739</envirDesc>
<dataLang>
<languageCode Sync="TRUE" value="fra"/>
<countryCode Sync="TRUE" value="FRA"/>
</dataLang>
<idCitation>
<resTitle Sync="TRUE">MNT_Panneciere_opsia_2022_L93</resTitle>
<presForm>
<PresFormCd Sync="TRUE" value="011"/>
</presForm>
</idCitation>
<spatRpType>
<SpatRepTypCd Sync="TRUE" value="002"/>
</spatRpType>
<dataExt>
<geoEle>
<GeoBndBox esriExtentType="search">
<exTypeCode Sync="TRUE">1</exTypeCode>
<westBL Sync="TRUE">3.865011</westBL>
<eastBL Sync="TRUE">3.945894</eastBL>
<northBL Sync="TRUE">47.167636</northBL>
<southBL Sync="TRUE">47.107091</southBL>
</GeoBndBox>
</geoEle>
</dataExt>
<idAbs/>
<searchKeys>
<keyword>MNT</keyword>
<keyword>bathymétrie</keyword>
<keyword>Yonne</keyword>
<keyword>Pannecière</keyword>
</searchKeys>
<idPurp>MNT du lac de Pannecière produit par la société Opsia - Version 2022</idPurp>
<idCredit/>
<resConst>
<Consts>
<useLimit/>
</Consts>
</resConst>
</dataIdInfo>
<mdLang>
<languageCode Sync="TRUE" value="fra"/>
<countryCode Sync="TRUE" value="FRA"/>
</mdLang>
<distInfo>
<distFormat>
<formatName Sync="TRUE">Jeu de données raster de géodatabase d'entreprise</formatName>
</distFormat>
</distInfo>
<mdHrLv>
<ScopeCd Sync="TRUE" value="005"/>
</mdHrLv>
<mdHrLvName Sync="TRUE">dataset</mdHrLvName>
<spdoinfo>
<rastinfo>
<rasttype Sync="TRUE">Pixel</rasttype>
<rowcount Sync="TRUE">13312</rowcount>
<colcount Sync="TRUE">12109</colcount>
<rastxsz Sync="TRUE">0,500000</rastxsz>
<rastysz Sync="TRUE">0,500000</rastysz>
<rastbpp Sync="TRUE">32</rastbpp>
<vrtcount Sync="TRUE">1</vrtcount>
<rastorig Sync="TRUE">Upper Left</rastorig>
<rastcmap Sync="TRUE">FALSE</rastcmap>
<rastcomp Sync="TRUE">LZ77</rastcomp>
<rastband Sync="TRUE">1</rastband>
<rastdtyp Sync="TRUE">pixel codes</rastdtyp>
<rastifor Sync="TRUE">SDR</rastifor>
<rastplyr Sync="TRUE">TRUE</rastplyr>
</rastinfo>
</spdoinfo>
<spref>
<horizsys>
<planar>
<planci>
<plance Sync="TRUE">row and column</plance>
<coordrep>
<absres Sync="TRUE">0,500000</absres>
<ordres Sync="TRUE">0,500000</ordres>
</coordrep>
</planci>
</planar>
</horizsys>
</spref>
<mdDateSt Sync="TRUE">20230109</mdDateSt>
<refSysInfo>
<RefSystem>
<refSysID>
<identCode Sync="TRUE" code="2154"/>
<idCodeSpace Sync="TRUE">EPSG</idCodeSpace>
<idVersion Sync="TRUE">6.7(9.0.0)</idVersion>
</refSysID>
</RefSystem>
</refSysInfo>
</metadata>
