<?xml version="1.0" encoding="UTF-8" standalone="no"?>
<metadata xml:lang="fr">
<Esri>
<CreaDate>20230119</CreaDate>
<CreaTime>12090800</CreaTime>
<ArcGISFormat>1.0</ArcGISFormat>
<SyncOnce>FALSE</SyncOnce>
<DataProperties>
<itemProps>
<itemName Sync="TRUE">sglgdbproddb.sglbasseeuser.mnt_bassee_2018_06</itemName>
<imsContentType Sync="TRUE">002</imsContentType>
<nativeExtBox>
<westBL Sync="TRUE">705867.000000</westBL>
<eastBL Sync="TRUE">715000.000000</eastBL>
<southBL Sync="TRUE">6809715.000000</southBL>
<northBL Sync="TRUE">6814146.000000</northBL>
<exTypeCode Sync="TRUE">1</exTypeCode>
</nativeExtBox>
<itemLocation>
<linkage Sync="TRUE">Server=10.10.92.32; Service=sde:postgresql:10.10.92.32; Database=sglgdbproddb; User=sglbasseeuser; Version=sde.DEFAULT</linkage>
<protocol Sync="TRUE">ArcSDE Connection</protocol>
</itemLocation>
</itemProps>
<lineage>
<Process Date="20230119" Time="120947" ToolSource="c:\program files\arcgis\pro\Resources\ArcToolbox\toolboxes\Data Management Tools.tbx\CopyRaster">CopyRaster 2018.06.14_Livraison_MNT_ALL_1mx1m_03.asc "P:\Connexions BD\GDB_PROD_sglbasseeuser.sde\sglgdbproddb.sglbasseeuser.mnt_bassee_2018_06" # # -9999 NONE NONE # NONE NONE "Format Grille Esri" NONE CURRENT_SLICE NO_TRANSPOSE</Process>
</lineage>
</DataProperties>
<SyncDate>20230119</SyncDate>
<SyncTime>12091100</SyncTime>
<ModDate>20230119</ModDate>
<ModTime>12091100</ModTime>
</Esri>
<dataIdInfo>
<envirDesc Sync="TRUE">Microsoft Windows 10 Version 10.0 (Build 19045) ; Esri ArcGIS 12.9.4.32739</envirDesc>
<dataLang>
<languageCode Sync="TRUE" value="fra"/>
<countryCode Sync="TRUE" value="FRA"/>
</dataLang>
<idCitation>
<resTitle Sync="TRUE">LaBassee_Topographie_MNT_2018</resTitle>
<presForm>
<PresFormCd Sync="TRUE" value="011"/>
</presForm>
</idCitation>
<spatRpType>
<SpatRepTypCd Sync="TRUE" value="002"/>
</spatRpType>
<idAbs/>
<searchKeys>
<keyword>bassee</keyword>
<keyword>topographie</keyword>
<keyword>mnt</keyword>
</searchKeys>
<idPurp>Modèle numérique de terrain sur le secteur de la Bassée (produit par la société Ingéo pour SGL en 2018)</idPurp>
<idCredit/>
<resConst>
<Consts>
<useLimit/>
</Consts>
</resConst>
</dataIdInfo>
<mdLang>
<languageCode Sync="TRUE" value="fra"/>
<countryCode Sync="TRUE" value="FRA"/>
</mdLang>
<distInfo>
<distFormat>
<formatName Sync="TRUE">Jeu de données raster de géodatabase d'entreprise</formatName>
</distFormat>
</distInfo>
<mdHrLv>
<ScopeCd Sync="TRUE" value="005"/>
</mdHrLv>
<mdHrLvName Sync="TRUE">dataset</mdHrLvName>
<spdoinfo>
<rastinfo>
<rasttype Sync="TRUE">Pixel</rasttype>
<rowcount Sync="TRUE">4431</rowcount>
<colcount Sync="TRUE">9133</colcount>
<rastxsz Sync="TRUE">1,000000</rastxsz>
<rastysz Sync="TRUE">1,000000</rastysz>
<rastbpp Sync="TRUE">32</rastbpp>
<vrtcount Sync="TRUE">1</vrtcount>
<rastorig Sync="TRUE">Upper Left</rastorig>
<rastcmap Sync="TRUE">FALSE</rastcmap>
<rastcomp Sync="TRUE">LZ77</rastcomp>
<rastband Sync="TRUE">1</rastband>
<rastdtyp Sync="TRUE">pixel codes</rastdtyp>
<rastifor Sync="TRUE">SDR</rastifor>
<rastplyr Sync="TRUE">TRUE</rastplyr>
</rastinfo>
</spdoinfo>
<spref>
<horizsys>
<planar>
<planci>
<plance Sync="TRUE">row and column</plance>
<coordrep>
<absres Sync="TRUE">1,000000</absres>
<ordres Sync="TRUE">1,000000</ordres>
</coordrep>
</planci>
</planar>
</horizsys>
</spref>
<mdDateSt Sync="TRUE">20230119</mdDateSt>
</metadata>
